BEGIN:VCALENDAR
VERSION:2.0
PRODID:-//Ontario Apprenticeship Landscape Horticulture - ECPv6.15.11//NONSGML v1.0//EN
CALSCALE:GREGORIAN
METHOD:PUBLISH
X-WR-CALNAME:Ontario Apprenticeship Landscape Horticulture
X-ORIGINAL-URL:https://www.horticulturetechnician.ca
X-WR-CALDESC:Events for Ontario Apprenticeship Landscape Horticulture
REFRESH-INTERVAL;VALUE=DURATION:PT1H
X-Robots-Tag:noindex
X-PUBLISHED-TTL:PT1H
BEGIN:VTIMEZONE
TZID:UTC
BEGIN:STANDARD
TZOFFSETFROM:+0000
TZOFFSETTO:+0000
TZNAME:UTC
DTSTART:20220101T000000
END:STANDARD
END:VTIMEZONE
BEGIN:VEVENT
DTSTART;TZID=UTC:20230214T170000
DTEND;TZID=UTC:20230214T180000
DTSTAMP:20260419T222217
CREATED:20221209T184209Z
LAST-MODIFIED:20221209T184209Z
UID:4846-1676394000-1676397600@www.horticulturetechnician.ca
SUMMARY:Info Session: Apprenticeship Pays
DESCRIPTION:Everyone is welcome to join us for a FREE virtual information session to learn about all the benefits the Horticulture Technician Apprenticeship Program offers: skilled workers\, career advancement\, and financial. \nSIGN UP NOW FOR A FREE INFORMATION SESSION February 14 @ 5:00 PM
URL:https://www.horticulturetechnician.ca/event/info-session-apprenticeship-pays-16/
ATTACH;FMTTYPE=image/jpeg:https://www.horticulturetechnician.ca/wp-content/uploads/2022/12/InfoSessionFeb14.jpg
END:VEVENT
END:VCALENDAR