BEGIN:VCALENDAR
VERSION:2.0
PRODID:-//Ontario Apprenticeship Landscape Horticulture - ECPv6.15.11//NONSGML v1.0//EN
CALSCALE:GREGORIAN
METHOD:PUBLISH
X-WR-CALNAME:Ontario Apprenticeship Landscape Horticulture
X-ORIGINAL-URL:https://www.horticulturetechnician.ca
X-WR-CALDESC:Events for Ontario Apprenticeship Landscape Horticulture
REFRESH-INTERVAL;VALUE=DURATION:PT1H
X-Robots-Tag:noindex
X-PUBLISHED-TTL:PT1H
BEGIN:VTIMEZONE
TZID:UTC
BEGIN:STANDARD
TZOFFSETFROM:+0000
TZOFFSETTO:+0000
TZNAME:UTC
DTSTART:20220101T000000
END:STANDARD
END:VTIMEZONE
BEGIN:VEVENT
DTSTART;TZID=UTC:20230214T170000
DTEND;TZID=UTC:20230214T180000
DTSTAMP:20260419T131942
CREATED:20221209T184209Z
LAST-MODIFIED:20221209T184209Z
UID:4846-1676394000-1676397600@www.horticulturetechnician.ca
SUMMARY:Info Session: Apprenticeship Pays
DESCRIPTION:Everyone is welcome to join us for a FREE virtual information session to learn about all the benefits the Horticulture Technician Apprenticeship Program offers: skilled workers\, career advancement\, and financial. \nSIGN UP NOW FOR A FREE INFORMATION SESSION February 14 @ 5:00 PM
URL:https://www.horticulturetechnician.ca/event/info-session-apprenticeship-pays-16/
ATTACH;FMTTYPE=image/jpeg:https://www.horticulturetechnician.ca/wp-content/uploads/2022/12/InfoSessionFeb14.jpg
END:VEVENT
BEGIN:VEVENT
DTSTART;TZID=UTC:20230224T120000
DTEND;TZID=UTC:20230224T130000
DTSTAMP:20260419T131942
CREATED:20230217T183114Z
LAST-MODIFIED:20230223T212221Z
UID:5261-1677240000-1677243600@www.horticulturetechnician.ca
SUMMARY:Landscape.Jobs Webinar for Employers
DESCRIPTION:Employers join us for a FREE Zoom Webinar on Friday\, February 24th at 12pm \nWhether you are thinking about posting a job on Landscape.Jobs or have been doing this for a while\, this free webinar will walk you through the system and maybe even teach you a few tricks to how to use the job board to reach more interested job seekers. \nTopic: Landscape.jobs Employer Walkthrough \nTime: Feb 24\, 2023 12:00 PM Eastern Time (US and Canada) \nJoin Zoom Meeting: https://landscapeontario.zoom.us/j/83340861529 \nMeeting ID: 833 4086 1529\nOne tap mobile\n+17789072071\,\,83340861529# Canada\n+17806660144\,\,83340861529# Canada \nIf you have questions\, please contact Nolan Bechtel at nbechtel@landscapeontario.com \n 
URL:https://www.horticulturetechnician.ca/event/landscape-jobs-webinar-for-employers/
CATEGORIES:Info Sessions,Landscape-Jobs
ATTACH;FMTTYPE=image/png:https://www.horticulturetechnician.ca/wp-content/uploads/2023/02/L-JWebinar.png
END:VEVENT
BEGIN:VEVENT
DTSTART;TZID=UTC:20230228T130000
DTEND;TZID=UTC:20230228T140000
DTSTAMP:20260419T131942
CREATED:20221209T184338Z
LAST-MODIFIED:20221209T184338Z
UID:4848-1677589200-1677592800@www.horticulturetechnician.ca
SUMMARY:Info Session: Apprenticeship Pays
DESCRIPTION:Everyone is welcome to join us for a FREE virtual information session to learn about all the benefits the Horticulture Technician Apprenticeship Program offers: skilled workers\, career advancement\, and financial. \nSIGN UP NOW FOR A FREE INFORMATION SESSION February 28 @ 1:00 PM
URL:https://www.horticulturetechnician.ca/event/info-session-apprenticeship-pays-17/
ATTACH;FMTTYPE=image/jpeg:https://www.horticulturetechnician.ca/wp-content/uploads/2022/12/InfoSessionFeb28.jpg
END:VEVENT
END:VCALENDAR