BEGIN:VCALENDAR
VERSION:2.0
PRODID:-//Ontario Apprenticeship Landscape Horticulture - ECPv6.15.11//NONSGML v1.0//EN
CALSCALE:GREGORIAN
METHOD:PUBLISH
X-ORIGINAL-URL:https://www.horticulturetechnician.ca
X-WR-CALDESC:Events for Ontario Apprenticeship Landscape Horticulture
REFRESH-INTERVAL;VALUE=DURATION:PT1H
X-Robots-Tag:noindex
X-PUBLISHED-TTL:PT1H
BEGIN:VTIMEZONE
TZID:UTC
BEGIN:STANDARD
TZOFFSETFROM:+0000
TZOFFSETTO:+0000
TZNAME:UTC
DTSTART:20210101T000000
END:STANDARD
END:VTIMEZONE
BEGIN:VEVENT
DTSTART;TZID=UTC:20220301T170000
DTEND;TZID=UTC:20220301T180000
DTSTAMP:20260419T203204
CREATED:20211022T163512Z
LAST-MODIFIED:20220209T194058Z
UID:2093-1646154000-1646157600@www.horticulturetechnician.ca
SUMMARY:Info Session: Apprenticeship Pays
DESCRIPTION:Employers\, Workers\, and Job Seekers\, join us for a FREE virtual information session to learn about all the benefits the Horticulture Technician Apprenticeship Program offers: skilled workers\, career advancement\, and financial incentives. \nSIGN UP NOW FOR A FREE INFORMATION SESSION MARCH 1 @ 5:00 PM \n\nAdd to calendar
URL:https://www.horticulturetechnician.ca/event/info-session-the-apprenticeship-program-is-a-gift/
CATEGORIES:Info Sessions
ATTACH;FMTTYPE=image/jpeg:https://www.horticulturetechnician.ca/wp-content/uploads/2022/02/Mar1InfoSession.jpg
END:VEVENT
BEGIN:VEVENT
DTSTART;TZID=UTC:20220302T100000
DTEND;TZID=UTC:20220302T170000
DTSTAMP:20260419T203204
CREATED:20220104T215416Z
LAST-MODIFIED:20220222T152743Z
UID:3175-1646215200-1646240400@www.horticulturetechnician.ca
SUMMARY:On-The-Job Training (OJT) Workshop (Virtual) - March 2 - SESSION FULL
DESCRIPTION:Landscape Ontario is pleased to provide a On-The-Job Training (OJT) Workshop\, in the Ottawa area March 2\, 2022. \nOpen to employers\, supervisors\, and trainers in the horticulture industry\, this workshop (valued at $250-$480) is FREE! \nOur goal is to help current and prospective apprenticeship Employer sponsors and trainers build their skill sets and build a culture of training within companies that strengthens recruitment and retention of amazing staff. \nFacilitated by a Master OJT Trainer\, the workshop will apply industry proven practices that will lead to quicker training\, more effective and productive apprentices and trainees\, and improved safety and quality standards. \nParticipants will also receive workshop materials\, such as OJT reference guides for softscape and hardscape\, and job breakdown sheets. \nDon’t miss this fantastic opportunity to learn new skills. \nThis is a virtual event. \nSESSION IS FULL – Please consider another available date: REGISTER NOW
URL:https://www.horticulturetechnician.ca/event/on-the-job-training-workshop-ottawa/
ATTACH;FMTTYPE=image/jpeg:https://www.horticulturetechnician.ca/wp-content/uploads/2022/01/TraintheTrainerHeader.jpg
END:VEVENT
BEGIN:VEVENT
DTSTART;TZID=UTC:20220307T080000
DTEND;TZID=UTC:20220307T150000
DTSTAMP:20260419T203204
CREATED:20220222T153534Z
LAST-MODIFIED:20220222T161129Z
UID:3797-1646640000-1646665200@www.horticulturetechnician.ca
SUMMARY:Tools in the Trades Boot Camp - New Hamburg
DESCRIPTION:Tools in the Trades Boot Camp events — connect with the workforce of tomorrow\nTalk with potential employees\, be a panellist or an activity mentor\n\n\n\nCome join us at Tools in the Trades Boot Camps\, where apprentice candidates from around the province\, both graduating SHSM students and adult job seekers\, will be taking part in a one-day\, intensive introduction to the trades hosted by Support Ontario Youth and Landscape Ontario. \nThe Tools in the Trade Bootcamp is designed to expose participants to different aspects of the trades to enhance their potential for employment and success in the skilled trades. \nThe landscape and horticulture profession will be the focus of 10 upcoming Tools in the Trades Boot Camps that may be taking place near you. \nFor more information or to take part visit: horttrades.com/tools-in-the-trades-boot-camp-events
URL:https://www.horticulturetechnician.ca/event/tools-in-the-trades-boot-camp-new-hamburg-3/
ATTACH;FMTTYPE=image/jpeg:https://www.horticulturetechnician.ca/wp-content/uploads/2022/02/Soy-BootcampMarch7.jpg
END:VEVENT
BEGIN:VEVENT
DTSTART;TZID=UTC:20220310T080000
DTEND;TZID=UTC:20220310T170000
DTSTAMP:20260419T203204
CREATED:20220222T153927Z
LAST-MODIFIED:20220225T201915Z
UID:3801-1646899200-1646931600@www.horticulturetechnician.ca
SUMMARY:Tools In The Trades Boot Camp - Milton -- FULL
DESCRIPTION:Tools in the Trades Boot Camp events — connect with the workforce of tomorrow\nTalk with potential employees\, be a panellist or an activity mentor\n\n\n\nCome join us at Tools in the Trades Boot Camps\, where apprentice candidates from around the province\, both graduating SHSM students and adult job seekers\, will be taking part in a one-day\, intensive introduction to the trades hosted by Support Ontario Youth and Landscape Ontario. \nThe Tools in the Trade Bootcamp is designed to expose participants to different aspects of the trades to enhance their potential for employment and success in the skilled trades. \nThe landscape and horticulture profession will be the focus of 10 upcoming Tools in the Trades Boot Camps that may be taking place near you. \nThis session is full. \nFor more information or to take part visit: horttrades.com/tools-in-the-trades-boot-camp-events
URL:https://www.horticulturetechnician.ca/event/tools-in-the-trades-boot-camp-milton/
ATTACH;FMTTYPE=image/jpeg:https://www.horticulturetechnician.ca/wp-content/uploads/2022/02/Soy-BootcampMar10.jpg
END:VEVENT
BEGIN:VEVENT
DTSTART;TZID=UTC:20220314T080000
DTEND;TZID=UTC:20220314T163000
DTSTAMP:20260419T203204
CREATED:20220222T154036Z
LAST-MODIFIED:20220302T190907Z
UID:3803-1647244800-1647275400@www.horticulturetechnician.ca
SUMMARY:Tools in the Trades Boot Camp - Milton
DESCRIPTION:Tools in the Trades Boot Camp events — connecting the  workforce of tomorrow with local employers\n\n\n\n\nInterested Boot Camp Participants:\n\nCalling all youth and adult job seekers who are interested in finding out more about the landscape and horticulture profession! \nSupport Ontario Youth and Landscape Ontario  will be hosting a one-day\, intensive introduction to the horticulture trade. \nThe Tools in the Trade Bootcamp\, limited to 30 participants\, is designed to expose participants to different aspects of the trades to enhance their potential for employment and success in the skilled trades. \nIf you would like to be a boot camp participant on March 14\, 8:00-4:30\, please complete this application: https://bit.ly/32vWKXi \n  \n\nEmployers be a panellist or activity mentor:\n\nCome join us at Tools in the Trades Boot Camps\, where apprentice candidates from around the province\, both graduating SHSM students and adult job seekers\, will be taking part in a one-day\, intensive introduction to the trades hosted by Support Ontario Youth and Landscape Ontario. \nThe Tools in the Trade Bootcamp is designed to expose participants to different aspects of the trades to enhance their potential for employment and success in the skilled trades. \nThe landscape and horticulture profession will be the focus of 10 upcoming Tools in the Trades Boot Camps that may be taking place near you. \nFor more information or to take part visit: horttrades.com/tools-in-the-trades-boot-camp-events
URL:https://www.horticulturetechnician.ca/event/tools-in-the-trades-boot-camp-march-14/
ATTACH;FMTTYPE=image/jpeg:https://www.horticulturetechnician.ca/wp-content/uploads/2022/02/Soy-BootcampMar14.jpg
END:VEVENT
BEGIN:VEVENT
DTSTART;TZID=UTC:20220315T130000
DTEND;TZID=UTC:20220315T140000
DTSTAMP:20260419T203204
CREATED:20211022T164314Z
LAST-MODIFIED:20220209T194202Z
UID:2095-1647349200-1647352800@www.horticulturetechnician.ca
SUMMARY:Info Session: Apprenticeship Pays
DESCRIPTION:Employers\, Workers\, and Job Seekers\, join us for a FREE virtual information session to learn about all the benefits the Horticulture Technician Apprenticeship Program offers: skilled workers\, career advancement\, and financial incentives. \nSIGN UP NOW FOR A FREE INFORMATION SESSION MARCH 15 @ 1:00 PM\n\nAdd to calendar
URL:https://www.horticulturetechnician.ca/event/info-session-the-pathway-to-a-more-fulfilling-career-in-horticulture/
CATEGORIES:Info Sessions
ATTACH;FMTTYPE=image/jpeg:https://www.horticulturetechnician.ca/wp-content/uploads/2022/02/Mar15InfoSession.jpg
END:VEVENT
BEGIN:VEVENT
DTSTART;TZID=UTC:20220316T100000
DTEND;TZID=UTC:20220316T150000
DTSTAMP:20260419T203204
CREATED:20220104T215613Z
LAST-MODIFIED:20220222T153139Z
UID:3177-1647424800-1647442800@www.horticulturetechnician.ca
SUMMARY:On-The-Job Training Workshop (Virtual) - March 16
DESCRIPTION:Landscape Ontario is pleased to provide a On-The-Job Training (OJT) Workshop\, virtual session to be held March 16\, 2022. \nOpen to employers\, supervisors\, and trainers in the horticulture industry\, this workshop (valued at $250-$480) is FREE! \nOur goal is to help current and prospective apprenticeship Employer sponsors and trainers build their skill sets and build a culture of training within companies that strengthens recruitment and retention of amazing staff. \nFacilitated by a Master OJT Trainer\, the workshop will apply industry proven practices that will lead to quicker training\, more effective and productive apprentices and trainees\, and improved safety and quality standards. \nParticipants will also receive workshop materials\, such as OJT reference guides for softscape and hardscape\, and job breakdown sheets. \nDon’t miss this fantastic opportunity to learn new skills. \nLocation: Virtual \nREGISTER NOW
URL:https://www.horticulturetechnician.ca/event/on-the-job-training-workshop-milton/
ATTACH;FMTTYPE=image/jpeg:https://www.horticulturetechnician.ca/wp-content/uploads/2022/01/TraintheTrainerHeader.jpg
END:VEVENT
BEGIN:VEVENT
DTSTART;TZID=UTC:20220323T100000
DTEND;TZID=UTC:20220323T150000
DTSTAMP:20260419T203204
CREATED:20220104T215807Z
LAST-MODIFIED:20220222T153321Z
UID:3179-1648029600-1648047600@www.horticulturetechnician.ca
SUMMARY:On-The-Job Training Workshop (Virtual) - March 23
DESCRIPTION:Landscape Ontario is pleased to provide a On-The-Job Training (OJT) Workshop\, virtual session to be held March 23\, 2022. \nOpen to employers\, supervisors\, and trainers in the horticulture industry\, this workshop (valued at $250-$480) is FREE! \nOur goal is to help current and prospective apprenticeship Employer sponsors and trainers build their skill sets and build a culture of training within companies that strengthens recruitment and retention of amazing staff. \nFacilitated by a Master OJT Trainer\, the workshop will apply industry proven practices that will lead to quicker training\, more effective and productive apprentices and trainees\, and improved safety and quality standards. \nParticipants will also receive workshop materials\, such as OJT reference guides for softscape and hardscape\, and job breakdown sheets. \nDon’t miss this fantastic opportunity to learn new skills. \nLocation: Virtual \nREGISTER NOW
URL:https://www.horticulturetechnician.ca/event/on-the-job-training-workshop-milton-2/
ATTACH;FMTTYPE=image/jpeg:https://www.horticulturetechnician.ca/wp-content/uploads/2022/01/TraintheTrainerHeader.jpg
END:VEVENT
BEGIN:VEVENT
DTSTART;TZID=UTC:20220325T080000
DTEND;TZID=UTC:20220325T170000
DTSTAMP:20260419T203204
CREATED:20211115T230400Z
LAST-MODIFIED:20211214T200408Z
UID:2265-1648195200-1648227600@www.horticulturetechnician.ca
SUMMARY:Tools in the Trades Boot Camp - Niagara
DESCRIPTION:Tools in the Trades Boot Camp events — connect with the workforce of tomorrow\nTalk with potential employees\, be a panellist or an activity mentor\n\n\n\nCome join us at Tools in the Trades Boot Camps\, where apprentice candidates from around the province\, both graduating SHSM students and adult job seekers\, will be taking part in a one-day\, intensive introduction to the trades hosted by Support Ontario Youth and Landscape Ontario. \nThe Tools in the Trade Bootcamp is designed to expose participants to different aspects of the trades to enhance their potential for employment and success in the skilled trades. \nThe landscape and horticulture profession will be the focus of 10 upcoming Tools in the Trades Boot Camps that may be taking place near you. \nFor more information or to take part visit: horttrades.com/tools-in-the-trades-boot-camp-events
URL:https://www.horticulturetechnician.ca/event/tools-in-the-trades-boot-camp-niagara-2/
CATEGORIES:Info Sessions
ATTACH;FMTTYPE=image/jpeg:https://www.horticulturetechnician.ca/wp-content/uploads/2021/11/Soy-BootcampMar25.jpg
END:VEVENT
BEGIN:VEVENT
DTSTART;TZID=UTC:20220329T170000
DTEND;TZID=UTC:20220329T180000
DTSTAMP:20260419T203204
CREATED:20211022T164625Z
LAST-MODIFIED:20220209T203037Z
UID:2097-1648573200-1648576800@www.horticulturetechnician.ca
SUMMARY:Info Session: Apprenticeship Pays
DESCRIPTION:Employers\, Workers\, and Job Seekers\, join us for a FREE virtual information session to learn about all the benefits the Horticulture Technician Apprenticeship Program offers: skilled workers\, career advancement\, and financial incentives. \nSIGN UP NOW FOR A FREE INFORMATION SESSION March 29 @ 5:00 PM\n\nAdd to calendar
URL:https://www.horticulturetechnician.ca/event/info-session-are-you-leveraging-the-gift-of-apprenticeship-2/
CATEGORIES:Info Sessions
ATTACH;FMTTYPE=image/jpeg:https://www.horticulturetechnician.ca/wp-content/uploads/2022/02/Mar29InfoSession.jpg
END:VEVENT
END:VCALENDAR