BEGIN:VCALENDAR
VERSION:2.0
PRODID:-//Ontario Apprenticeship Landscape Horticulture - ECPv6.15.11//NONSGML v1.0//EN
CALSCALE:GREGORIAN
METHOD:PUBLISH
X-WR-CALNAME:Ontario Apprenticeship Landscape Horticulture
X-ORIGINAL-URL:https://www.horticulturetechnician.ca
X-WR-CALDESC:Events for Ontario Apprenticeship Landscape Horticulture
REFRESH-INTERVAL;VALUE=DURATION:PT1H
X-Robots-Tag:noindex
X-PUBLISHED-TTL:PT1H
BEGIN:VTIMEZONE
TZID:UTC
BEGIN:STANDARD
TZOFFSETFROM:+0000
TZOFFSETTO:+0000
TZNAME:UTC
DTSTART:20200101T000000
END:STANDARD
END:VTIMEZONE
BEGIN:VEVENT
DTSTART;TZID=UTC:20211109T170000
DTEND;TZID=UTC:20211109T180000
DTSTAMP:20260420T065002
CREATED:20211003T133352Z
LAST-MODIFIED:20211105T015840Z
UID:1972-1636477200-1636480800@www.horticulturetechnician.ca
SUMMARY:Info Session: Strengthen Your Workforce\, Leverage the Apprenticeship Program
DESCRIPTION:Learn how the Horticultural Technician 441C Apprenticeship Program can help employers strengthen their workforce and workers advance their career. \nSIGN UP NOW FOR A FREE INFORMATION SESSION NOVEMBER 9 @ 5:00 PM\n\nAdd to calendar
URL:https://www.horticulturetechnician.ca/event/register-today-for-apprenticeship-program-info-session/
CATEGORIES:Info Sessions
ATTACH;FMTTYPE=image/jpeg:https://www.horticulturetechnician.ca/wp-content/uploads/2021/11/InfoSessionStrengthen.jpg
END:VEVENT
BEGIN:VEVENT
DTSTART;TZID=UTC:20211026T130000
DTEND;TZID=UTC:20211026T140000
DTSTAMP:20260420T065002
CREATED:20211003T133223Z
LAST-MODIFIED:20211022T160554Z
UID:1968-1635253200-1635256800@www.horticulturetechnician.ca
SUMMARY:Info Session: Apprenticeship Pays
DESCRIPTION:Join us for a FREE information session to learn about all the benefits the Horticulture Technician Apprenticeship Program offers: skilled workers\, career advancement\, and financial incentives. \nSIGN UP NOW FOR A FREE INFORMATION SESSION OCTOBER 26 @ 1:00 PM\n\nAdd to calendar
URL:https://www.horticulturetechnician.ca/event/apprenticeship-pays-employers-and-workers/
CATEGORIES:Info Sessions
ATTACH;FMTTYPE=image/jpeg:https://www.horticulturetechnician.ca/wp-content/uploads/2021/10/InfoSession-ApprenticeshipPays-1.jpg
END:VEVENT
BEGIN:VEVENT
DTSTART;TZID=UTC:20211012T170000
DTEND;TZID=UTC:20211012T180000
DTSTAMP:20260420T065002
CREATED:20211003T111040Z
LAST-MODIFIED:20211003T134245Z
UID:1962-1634058000-1634061600@www.horticulturetechnician.ca
SUMMARY:Info Session for Landscape Horticultural Technician Apprenticeship Oct 12
DESCRIPTION:Date and time\n\nTue\, October 12\, 2021 \n5:00 PM – 6:00 PM EDT \nPLEASE REGISTER HERE\nAdd to calendar
URL:https://www.horticulturetechnician.ca/event/info-session-for-landscape-horticultural-technician-apprenticeship/
CATEGORIES:Info Sessions
ATTACH;FMTTYPE=image/jpeg:https://www.horticulturetechnician.ca/wp-content/uploads/2021/10/info-session.jpg
END:VEVENT
END:VCALENDAR