BEGIN:VCALENDAR
VERSION:2.0
PRODID:-//Ontario Apprenticeship Landscape Horticulture - ECPv6.15.11//NONSGML v1.0//EN
CALSCALE:GREGORIAN
METHOD:PUBLISH
X-ORIGINAL-URL:https://www.horticulturetechnician.ca
X-WR-CALDESC:Events for Ontario Apprenticeship Landscape Horticulture
REFRESH-INTERVAL;VALUE=DURATION:PT1H
X-Robots-Tag:noindex
X-PUBLISHED-TTL:PT1H
BEGIN:VTIMEZONE
TZID:UTC
BEGIN:STANDARD
TZOFFSETFROM:+0000
TZOFFSETTO:+0000
TZNAME:UTC
DTSTART:20210101T000000
END:STANDARD
END:VTIMEZONE
BEGIN:VEVENT
DTSTART;TZID=UTC:20220511T090000
DTEND;TZID=UTC:20220511T140000
DTSTAMP:20260419T185031
CREATED:20220503T174245Z
LAST-MODIFIED:20220503T174245Z
UID:4211-1652259600-1652277600@www.horticulturetechnician.ca
SUMMARY:Niagara Catholic District School Board Job Fair & Career Expo
DESCRIPTION:Come out and meet the Apprenticeship Team at the Niagara Catholic District School Board  Job Fair & Career Expo on Wednesday\, May 11 from 9 a.m. to 2 p.m. at Club Roma in St. Catharines. \nThe event is expected to attract up to 400 high school students. \nIf you have any questions about the Job Fair & Career Expo please contact: anthony.corrizzato@ncdsb.com.
URL:https://www.horticulturetechnician.ca/event/niagara-catholic-district-school-board-job-fair-career-expo/
ATTACH;FMTTYPE=image/png:https://www.horticulturetechnician.ca/wp-content/uploads/2022/05/JobsAhead.png
END:VEVENT
END:VCALENDAR