BEGIN:VCALENDAR
VERSION:2.0
PRODID:-//Ontario Apprenticeship Landscape Horticulture - ECPv6.15.11//NONSGML v1.0//EN
CALSCALE:GREGORIAN
METHOD:PUBLISH
X-WR-CALNAME:Ontario Apprenticeship Landscape Horticulture
X-ORIGINAL-URL:https://www.horticulturetechnician.ca
X-WR-CALDESC:Events for Ontario Apprenticeship Landscape Horticulture
REFRESH-INTERVAL;VALUE=DURATION:PT1H
X-Robots-Tag:noindex
X-PUBLISHED-TTL:PT1H
BEGIN:VTIMEZONE
TZID:UTC
BEGIN:STANDARD
TZOFFSETFROM:+0000
TZOFFSETTO:+0000
TZNAME:UTC
DTSTART:20210101T000000
END:STANDARD
END:VTIMEZONE
BEGIN:VEVENT
DTSTART;TZID=UTC:20220201T170000
DTEND;TZID=UTC:20220201T180000
DTSTAMP:20260419T232702
CREATED:20211022T162632Z
LAST-MODIFIED:20211022T162632Z
UID:2089-1643734800-1643738400@www.horticulturetechnician.ca
SUMMARY:Info Session: Are You Leveraging The Gift of Apprenticeship
DESCRIPTION:Join us for a FREE information session to learn about all the benefits the Horticulture Technician Apprenticeship Program offers: skilled workers\, career advancement\, and financial incentives. \nSIGN UP NOW FOR A FREE INFORMATION SESSION February 1 @ 5:00 PM\n\nAdd to calendar
URL:https://www.horticulturetechnician.ca/event/info-session-are-you-leveraging-the-gift-of-apprenticeship/
CATEGORIES:Info Sessions
ATTACH;FMTTYPE=image/jpeg:https://www.horticulturetechnician.ca/wp-content/uploads/2021/10/InfoSession-ApprenticeshipLeverageGift.jpg
END:VEVENT
END:VCALENDAR