BEGIN:VCALENDAR
VERSION:2.0
PRODID:-//Ontario Apprenticeship Landscape Horticulture - ECPv6.15.11//NONSGML v1.0//EN
CALSCALE:GREGORIAN
METHOD:PUBLISH
X-ORIGINAL-URL:https://www.horticulturetechnician.ca
X-WR-CALDESC:Events for Ontario Apprenticeship Landscape Horticulture
REFRESH-INTERVAL;VALUE=DURATION:PT1H
X-Robots-Tag:noindex
X-PUBLISHED-TTL:PT1H
BEGIN:VTIMEZONE
TZID:UTC
BEGIN:STANDARD
TZOFFSETFROM:+0000
TZOFFSETTO:+0000
TZNAME:UTC
DTSTART:20210101T000000
END:STANDARD
END:VTIMEZONE
BEGIN:VEVENT
DTSTART;TZID=UTC:20220118T100000
DTEND;TZID=UTC:20220118T140000
DTSTAMP:20260420T011144
CREATED:20220104T214936Z
LAST-MODIFIED:20220112T200538Z
UID:3171-1642500000-1642514400@www.horticulturetechnician.ca
SUMMARY:On-The-Job Training Workshop (Virtual) - SESSION FULL
DESCRIPTION:Landscape Ontario is pleased to provide a Virtual On-The-Job Training (OJT) Workshop\, across the province on January 18\, 2022. \nOpen to employers\, supervisors\, and trainers in the horticulture industry\, this workshop (valued at $250-$480) is FREE! \nOur goal is to help current and prospective apprenticeship Employer sponsors and trainers build their skill sets and build a culture of training within companies that strengthens recruitment and retention of amazing staff. \nFacilitated by a Master OJT Trainer\, the virtual workshop will apply industry proven practices that will lead to quicker training\, more effective and productive apprentices and trainees\, and improved safety and quality standards. \nParticipants will also receive workshop materials\, such as OJT reference guides for softscape and hardscape\, and job breakdown sheets. \nDon’t miss this fantastic opportunity to learn new skills. \nSESSION IS FULL\, PLEASE CONSIDER OTHER DATES: REGISTER NOW
URL:https://www.horticulturetechnician.ca/event/on-the-job-training-workshop-virtual/
ATTACH;FMTTYPE=image/jpeg:https://www.horticulturetechnician.ca/wp-content/uploads/2022/01/TraintheTrainerHeader.jpg
END:VEVENT
BEGIN:VEVENT
DTSTART;TZID=UTC:20220118T130000
DTEND;TZID=UTC:20220118T140000
DTSTAMP:20260420T011144
CREATED:20211022T162142Z
LAST-MODIFIED:20211022T162202Z
UID:2086-1642510800-1642514400@www.horticulturetechnician.ca
SUMMARY:Info Session: Improve Recruitment and Retention
DESCRIPTION:Learn how the Horticultural Technician 441C Apprenticeship Program can help employers retain staff and workers advance their career. \nSIGN UP NOW FOR A FREE INFORMATION SESSION January 18 @ 1:00 PM\n\nAdd to calendar
URL:https://www.horticulturetechnician.ca/event/info-session-improve-recruitment-and-retention/
CATEGORIES:Info Sessions
ATTACH;FMTTYPE=image/jpeg:https://www.horticulturetechnician.ca/wp-content/uploads/2021/10/InfoSession-ApprenticeshipImproveRecruitmentandRetention.jpg
END:VEVENT
END:VCALENDAR