BEGIN:VCALENDAR
VERSION:2.0
PRODID:-//Ontario Apprenticeship Landscape Horticulture - ECPv6.15.11//NONSGML v1.0//EN
CALSCALE:GREGORIAN
METHOD:PUBLISH
X-ORIGINAL-URL:https://www.horticulturetechnician.ca
X-WR-CALDESC:Events for Ontario Apprenticeship Landscape Horticulture
REFRESH-INTERVAL;VALUE=DURATION:PT1H
X-Robots-Tag:noindex
X-PUBLISHED-TTL:PT1H
BEGIN:VTIMEZONE
TZID:UTC
BEGIN:STANDARD
TZOFFSETFROM:+0000
TZOFFSETTO:+0000
TZNAME:UTC
DTSTART:20200101T000000
END:STANDARD
END:VTIMEZONE
BEGIN:VEVENT
DTSTART;TZID=UTC:20211207T130000
DTEND;TZID=UTC:20211207T140000
DTSTAMP:20260420T024210
CREATED:20211022T161620Z
LAST-MODIFIED:20211022T161745Z
UID:2080-1638882000-1638885600@www.horticulturetechnician.ca
SUMMARY:Info Session: A Pathway to a More Fulfilling Career in Horticulture
DESCRIPTION:Join us for a FREE information session to learn about all the benefits the Horticulture Technician Apprenticeship Program offers: skilled workers\, career advancement\, and financial incentives. \nSIGN UP NOW FOR A FREE INFORMATION SESSION December 7 @ 1:00 PM\n\nAdd to calendar
URL:https://www.horticulturetechnician.ca/event/info-session-a-pathway-to-a-more-fulfilling-career-in-horticulture/
CATEGORIES:Info Sessions
ATTACH;FMTTYPE=image/jpeg:https://www.horticulturetechnician.ca/wp-content/uploads/2021/10/InfoSession-ApprenticeshipPathwaytoFulfillment.jpg
END:VEVENT
END:VCALENDAR