BEGIN:VCALENDAR
VERSION:2.0
PRODID:-//Ontario Apprenticeship Landscape Horticulture - ECPv6.15.11//NONSGML v1.0//EN
CALSCALE:GREGORIAN
METHOD:PUBLISH
X-WR-CALNAME:Ontario Apprenticeship Landscape Horticulture
X-ORIGINAL-URL:https://www.horticulturetechnician.ca
X-WR-CALDESC:Events for Ontario Apprenticeship Landscape Horticulture
REFRESH-INTERVAL;VALUE=DURATION:PT1H
X-Robots-Tag:noindex
X-PUBLISHED-TTL:PT1H
BEGIN:VTIMEZONE
TZID:UTC
BEGIN:STANDARD
TZOFFSETFROM:+0000
TZOFFSETTO:+0000
TZNAME:UTC
DTSTART:20200101T000000
END:STANDARD
END:VTIMEZONE
BEGIN:VEVENT
DTSTART;TZID=UTC:20211202T080000
DTEND;TZID=UTC:20211202T170000
DTSTAMP:20260420T024143
CREATED:20211115T225309Z
LAST-MODIFIED:20211115T225754Z
UID:2243-1638432000-1638464400@www.horticulturetechnician.ca
SUMMARY:Tools of the Trades Boot Camp - Whitby/Oshawa
DESCRIPTION:Tools in the Trades Boot Camp events — connect with the workforce of tomorrow\nTalk with potential employees\, be a panellist or an activity mentor\n\n\n\nCome join us at Tools in the Trades Boot Camps\, where apprentice candidates from around the province\, both graduating SHSM students and adult job seekers\, will be taking part in a one-day\, intensive introduction to the trades hosted by Support Ontario Youth and Landscape Ontario. \nThe Tools in the Trade Bootcamp is designed to expose participants to different aspects of the trades to enhance their potential for employment and success in the skilled trades. \nThe landscape and horticulture profession will be the focus of 10 upcoming Tools in the Trades Boot Camps that may be taking place near you. \nFor more information or to take part visit: horttrades.com/tools-in-the-trades-boot-camp-events
URL:https://www.horticulturetechnician.ca/event/tools-of-the-trades-boot-camp-whitby-oshawa/
CATEGORIES:Info Sessions
ATTACH;FMTTYPE=image/jpeg:https://www.horticulturetechnician.ca/wp-content/uploads/2021/11/Soy-BootcampDec2.jpg
END:VEVENT
END:VCALENDAR